BEGIN:VCALENDAR
VERSION:2.0
PRODID:-//Collège Notre Dame - ECPv6.15.17.1//NONSGML v1.0//EN
CALSCALE:GREGORIAN
METHOD:PUBLISH
X-WR-CALNAME:Collège Notre Dame
X-ORIGINAL-URL:https://www.cpnd.fr
X-WR-CALDESC:Évènements pour Collège Notre Dame
REFRESH-INTERVAL;VALUE=DURATION:PT1H
X-Robots-Tag:noindex
X-PUBLISHED-TTL:PT1H
BEGIN:VTIMEZONE
TZID:Europe/Paris
BEGIN:DAYLIGHT
TZOFFSETFROM:+0100
TZOFFSETTO:+0200
TZNAME:CEST
DTSTART:20250330T010000
END:DAYLIGHT
BEGIN:STANDARD
TZOFFSETFROM:+0200
TZOFFSETTO:+0100
TZNAME:CET
DTSTART:20251026T010000
END:STANDARD
BEGIN:DAYLIGHT
TZOFFSETFROM:+0100
TZOFFSETTO:+0200
TZNAME:CEST
DTSTART:20260329T010000
END:DAYLIGHT
BEGIN:STANDARD
TZOFFSETFROM:+0200
TZOFFSETTO:+0100
TZNAME:CET
DTSTART:20261025T010000
END:STANDARD
BEGIN:DAYLIGHT
TZOFFSETFROM:+0100
TZOFFSETTO:+0200
TZNAME:CEST
DTSTART:20270328T010000
END:DAYLIGHT
BEGIN:STANDARD
TZOFFSETFROM:+0200
TZOFFSETTO:+0100
TZNAME:CET
DTSTART:20271031T010000
END:STANDARD
END:VTIMEZONE
BEGIN:VEVENT
DTSTART;TZID=Europe/Paris:20260126T080000
DTEND;TZID=Europe/Paris:20260130T170000
DTSTAMP:20260420T160936
CREATED:20220131T122826Z
LAST-MODIFIED:20260126T100555Z
UID:31925-1769414400-1769792400@www.cpnd.fr
SUMMARY:Semaine B
DESCRIPTION:
URL:https://www.cpnd.fr/event/semaine-b-6/
ATTACH;FMTTYPE=image/jpeg:https://www.cpnd.fr/wp-content/uploads/2021/01/Image-de-base.jpg
END:VEVENT
END:VCALENDAR